BEGIN:VCALENDAR
VERSION:2.0
PRODID:icalendar-ruby
CALSCALE:GREGORIAN
BEGIN:VEVENT
DTSTAMP:20260420T155500Z
UID:d9bc8e5e-2c50-405e-bd87-ba25a810a848
DTSTART;TZID=Pacific/Auckland:20260419T130000
DTEND;TZID=Pacific/Auckland:20260419T133000
DESCRIPTION:Property ID# 606544
SUMMARY:Openhome for 2 Puriri Crescent
END:VEVENT
END:VCALENDAR
