BEGIN:VCALENDAR
VERSION:2.0
PRODID:icalendar-ruby
CALSCALE:GREGORIAN
BEGIN:VEVENT
DTSTAMP:20260420T155714Z
UID:6be12c34-bef4-469b-aa88-4a327fbb2d72
DTSTART;VALUE=DATE:20260430
DESCRIPTION:Property ID# 606544\, Locatoin: United First National\, 1280 Pu
 kuatua Street\, Rotorua\, Time: 4:00PM
SUMMARY:Auction for 2 Puriri Crescent
END:VEVENT
END:VCALENDAR
