BEGIN:VCALENDAR
VERSION:2.0
PRODID:icalendar-ruby
CALSCALE:GREGORIAN
BEGIN:VEVENT
DTSTAMP:20260421T063242Z
UID:f880e619-f633-466b-9593-4600b472f123
DTSTART;VALUE=DATE:20210907
DESCRIPTION:Property ID# 515526\, Time: 1:00PM
SUMMARY:Auction for 
END:VEVENT
END:VCALENDAR
