BEGIN:VCALENDAR
VERSION:2.0
PRODID:icalendar-ruby
CALSCALE:GREGORIAN
BEGIN:VEVENT
DTSTAMP:20260420T142713Z
UID:f49099bd-220c-4ef8-a2f3-4681446b090f
DTSTART;VALUE=DATE:20201201
DESCRIPTION:Property ID# 493053\, Time: 4:00PM
SUMMARY:Auction for 
END:VEVENT
END:VCALENDAR
