BEGIN:VCALENDAR
VERSION:2.0
PRODID:icalendar-ruby
CALSCALE:GREGORIAN
BEGIN:VEVENT
DTSTAMP:20260419T180336Z
UID:fde6b819-4631-4329-963c-08cba448233c
DTSTART;VALUE=DATE:20200722
DESCRIPTION:Property ID# 483497\, Locatoin: McDowell Real Estate\, 1290 Eru
 era Street\, Rotorua 3010\, Time: 4:00PM
SUMMARY:Auction for 
END:VEVENT
END:VCALENDAR
